BEGIN:VCALENDAR
VERSION:2.0
PRODID:-//GYF - ECPv6.15.20//NONSGML v1.0//EN
CALSCALE:GREGORIAN
METHOD:PUBLISH
X-WR-CALNAME:GYF
X-ORIGINAL-URL:https://gyf.com
X-WR-CALDESC:Events for GYF
REFRESH-INTERVAL;VALUE=DURATION:PT1H
X-Robots-Tag:noindex
X-PUBLISHED-TTL:PT1H
BEGIN:VTIMEZONE
TZID:America/New_York
BEGIN:DAYLIGHT
TZOFFSETFROM:-0500
TZOFFSETTO:-0400
TZNAME:EDT
DTSTART:20210314T070000
END:DAYLIGHT
BEGIN:STANDARD
TZOFFSETFROM:-0400
TZOFFSETTO:-0500
TZNAME:EST
DTSTART:20211107T060000
END:STANDARD
BEGIN:DAYLIGHT
TZOFFSETFROM:-0500
TZOFFSETTO:-0400
TZNAME:EDT
DTSTART:20220313T070000
END:DAYLIGHT
BEGIN:STANDARD
TZOFFSETFROM:-0400
TZOFFSETTO:-0500
TZNAME:EST
DTSTART:20221106T060000
END:STANDARD
BEGIN:DAYLIGHT
TZOFFSETFROM:-0500
TZOFFSETTO:-0400
TZNAME:EDT
DTSTART:20230312T070000
END:DAYLIGHT
BEGIN:STANDARD
TZOFFSETFROM:-0400
TZOFFSETTO:-0500
TZNAME:EST
DTSTART:20231105T060000
END:STANDARD
END:VTIMEZONE
BEGIN:VEVENT
DTSTART;TZID=America/New_York:20220907T083000
DTEND;TZID=America/New_York:20220907T103000
DTSTAMP:20260421T154928
CREATED:20220824T141933Z
LAST-MODIFIED:20220831T191517Z
UID:23144-1662539400-1662546600@gyf.com
SUMMARY:CLE Webinar: Attorneys' Guide to Financial Analysis of a Business – Insight from a Valuation Perspective
DESCRIPTION:Join us for a webinar where we will discuss: \n\nLooking “beyond” the numbers\nInterpreting your clients’ financial condition\nUnderstanding relevant performance indicators\nIdentifying strengths and weaknesses\nLearning how financial statement information can impact business value\n\n2 Hours CLE/CPE Credit  \nPlease note that access to a computer/laptop is encouraged for full functionality to complete polling and evaluation required to attain credits.  \n \n  \n  \nA login link to ON24 will be provided upon registration. \nNo Cost to Attend
URL:https://gyf.com/event/cle-webinar-attorneys-guide-to-financial-analysis-of-a-business-insight-from-a-valuation-perspective/
LOCATION:Webinar\, PA\, United States
CATEGORIES:CLE
END:VEVENT
END:VCALENDAR