BEGIN:VCALENDAR
VERSION:2.0
PRODID:-//GYF - ECPv6.15.20//NONSGML v1.0//EN
CALSCALE:GREGORIAN
METHOD:PUBLISH
X-ORIGINAL-URL:https://gyf.com
X-WR-CALDESC:Events for GYF
REFRESH-INTERVAL;VALUE=DURATION:PT1H
X-Robots-Tag:noindex
X-PUBLISHED-TTL:PT1H
BEGIN:VTIMEZONE
TZID:America/New_York
BEGIN:DAYLIGHT
TZOFFSETFROM:-0500
TZOFFSETTO:-0400
TZNAME:EDT
DTSTART:20220313T070000
END:DAYLIGHT
BEGIN:STANDARD
TZOFFSETFROM:-0400
TZOFFSETTO:-0500
TZNAME:EST
DTSTART:20221106T060000
END:STANDARD
BEGIN:DAYLIGHT
TZOFFSETFROM:-0500
TZOFFSETTO:-0400
TZNAME:EDT
DTSTART:20230312T070000
END:DAYLIGHT
BEGIN:STANDARD
TZOFFSETFROM:-0400
TZOFFSETTO:-0500
TZNAME:EST
DTSTART:20231105T060000
END:STANDARD
BEGIN:DAYLIGHT
TZOFFSETFROM:-0500
TZOFFSETTO:-0400
TZNAME:EDT
DTSTART:20240310T070000
END:DAYLIGHT
BEGIN:STANDARD
TZOFFSETFROM:-0400
TZOFFSETTO:-0500
TZNAME:EST
DTSTART:20241103T060000
END:STANDARD
END:VTIMEZONE
BEGIN:VEVENT
DTSTART;TZID=America/New_York:20230607T083000
DTEND;TZID=America/New_York:20230607T103000
DTSTAMP:20260423T131307
CREATED:20230524T155701Z
LAST-MODIFIED:20230530T201201Z
UID:24438-1686126600-1686133800@gyf.com
SUMMARY:PittNUG – NetSuite User Group Meeting
DESCRIPTION:Join the Pittsburgh Area NetSuite Users Group\, the GYF ERP Solutions Group\nand other NetSuite Users for this in-person event.\nWe will discuss a variety of topics\, including: \n\nUser Group Updates and Announcements\nNetSuite 2023.1 Release\nTech Talk\nThird-party Spotlight\nMore details TBD\n\nEmail contact@pittnug.org for more information \nNova Place Conference Center | Nova Place
URL:https://gyf.com/event/pittnug-netsuite-user-group-meeting/
LOCATION:NOVA Place\, 100 S. Commons\, Pittsburgh\, PA\, 15212
CATEGORIES:GYF ERP
ATTACH;FMTTYPE=image/jpeg:https://gyf.com/wp-content/uploads/2016/02/Pgh-Area-NSUG-logo_rr.jpg
END:VEVENT
END:VCALENDAR