BEGIN:VCALENDAR
VERSION:2.0
PRODID:-//GYF - ECPv6.15.20//NONSGML v1.0//EN
CALSCALE:GREGORIAN
METHOD:PUBLISH
X-WR-CALNAME:GYF
X-ORIGINAL-URL:https://gyf.com
X-WR-CALDESC:Events for GYF
REFRESH-INTERVAL;VALUE=DURATION:PT1H
X-Robots-Tag:noindex
X-PUBLISHED-TTL:PT1H
BEGIN:VTIMEZONE
TZID:America/New_York
BEGIN:DAYLIGHT
TZOFFSETFROM:-0500
TZOFFSETTO:-0400
TZNAME:EDT
DTSTART:20200308T070000
END:DAYLIGHT
BEGIN:STANDARD
TZOFFSETFROM:-0400
TZOFFSETTO:-0500
TZNAME:EST
DTSTART:20201101T060000
END:STANDARD
BEGIN:DAYLIGHT
TZOFFSETFROM:-0500
TZOFFSETTO:-0400
TZNAME:EDT
DTSTART:20210314T070000
END:DAYLIGHT
BEGIN:STANDARD
TZOFFSETFROM:-0400
TZOFFSETTO:-0500
TZNAME:EST
DTSTART:20211107T060000
END:STANDARD
BEGIN:DAYLIGHT
TZOFFSETFROM:-0500
TZOFFSETTO:-0400
TZNAME:EDT
DTSTART:20220313T070000
END:DAYLIGHT
BEGIN:STANDARD
TZOFFSETFROM:-0400
TZOFFSETTO:-0500
TZNAME:EST
DTSTART:20221106T060000
END:STANDARD
END:VTIMEZONE
BEGIN:VEVENT
DTSTART;TZID=America/New_York:20211202T150000
DTEND;TZID=America/New_York:20211202T160000
DTSTAMP:20260421T155401
CREATED:20211012T154543Z
LAST-MODIFIED:20211027T152001Z
UID:19863-1638457200-1638460800@gyf.com
SUMMARY:2021 CPE DAY - TAX LEGISLATION UPDATE
DESCRIPTION:Numerous pieces of tax legislation are currently working their way through Congress and are expected to be enacted by the end of 2021. Many of the anticipated changes could be substantial and far-reaching. This presentation will include updates on what to expect regarding increases in corporate\, individual and capital gains tax rates; international taxation; tax treatment for partnerships; changes to estate and gift taxes; and the tax implications of the Infrastructure Bill. \nAttendees can earn one hour of Tax CPE credit for this program\, which will be presented live and will be available to view on-demand. There is no cost to attend\, but registration is required. \n \nClick here to register for multiple CPE Day programs.
URL:https://gyf.com/event/2021-cpe-day-aa-update-2021-11-18-2021-12-02/
LOCATION:Webinar\, PA\, United States
CATEGORIES:CPE
ATTACH;FMTTYPE=image/png:https://gyf.com/wp-content/uploads/2021/10/CPE-21-banner2.png
END:VEVENT
END:VCALENDAR