BEGIN:VCALENDAR
VERSION:2.0
PRODID:-//GYF - ECPv6.15.20//NONSGML v1.0//EN
CALSCALE:GREGORIAN
METHOD:PUBLISH
X-WR-CALNAME:GYF
X-ORIGINAL-URL:https://gyf.com
X-WR-CALDESC:Events for GYF
REFRESH-INTERVAL;VALUE=DURATION:PT1H
X-Robots-Tag:noindex
X-PUBLISHED-TTL:PT1H
BEGIN:VTIMEZONE
TZID:America/New_York
BEGIN:DAYLIGHT
TZOFFSETFROM:-0500
TZOFFSETTO:-0400
TZNAME:EDT
DTSTART:20210314T070000
END:DAYLIGHT
BEGIN:STANDARD
TZOFFSETFROM:-0400
TZOFFSETTO:-0500
TZNAME:EST
DTSTART:20211107T060000
END:STANDARD
BEGIN:DAYLIGHT
TZOFFSETFROM:-0500
TZOFFSETTO:-0400
TZNAME:EDT
DTSTART:20220313T070000
END:DAYLIGHT
BEGIN:STANDARD
TZOFFSETFROM:-0400
TZOFFSETTO:-0500
TZNAME:EST
DTSTART:20221106T060000
END:STANDARD
BEGIN:DAYLIGHT
TZOFFSETFROM:-0500
TZOFFSETTO:-0400
TZNAME:EDT
DTSTART:20230312T070000
END:DAYLIGHT
BEGIN:STANDARD
TZOFFSETFROM:-0400
TZOFFSETTO:-0500
TZNAME:EST
DTSTART:20231105T060000
END:STANDARD
END:VTIMEZONE
BEGIN:VEVENT
DTSTART;TZID=America/New_York:20220525T120000
DTEND;TZID=America/New_York:20220525T130000
DTSTAMP:20260424T040623
CREATED:20220506T192247Z
LAST-MODIFIED:20220506T192247Z
UID:21004-1653480000-1653483600@gyf.com
SUMMARY:NFP Webinar - Ask the Experts: Common Issues & Challenges for NFPs
DESCRIPTION:Join the NFP team for a one hour “Ask the Expert” style session in which the team will dive in to the topics they get asked most about. Over the hour\, they’ll cover the following: \n\nNEW Lease Accounting\nTracking and Reporting In-Kind Donations\nUpdates on Audit Communication\nSimplifying the 990\n\nIf possible\, please send questions in advance – link provided with registration details. Attendees will receive 1 hour of CPE credit. No cost to attend.  \n \n 
URL:https://gyf.com/event/nfp-webinar-ask-the-experts-common-issues-challenges-for-nfps/
LOCATION:Webinar\, PA\, United States
CATEGORIES:CPE,NFP
END:VEVENT
END:VCALENDAR