BEGIN:VCALENDAR
VERSION:2.0
PRODID:-//GYF - ECPv6.15.20//NONSGML v1.0//EN
CALSCALE:GREGORIAN
METHOD:PUBLISH
X-ORIGINAL-URL:https://gyf.com
X-WR-CALDESC:Events for GYF
REFRESH-INTERVAL;VALUE=DURATION:PT1H
X-Robots-Tag:noindex
X-PUBLISHED-TTL:PT1H
BEGIN:VTIMEZONE
TZID:America/New_York
BEGIN:DAYLIGHT
TZOFFSETFROM:-0500
TZOFFSETTO:-0400
TZNAME:EDT
DTSTART:20220313T070000
END:DAYLIGHT
BEGIN:STANDARD
TZOFFSETFROM:-0400
TZOFFSETTO:-0500
TZNAME:EST
DTSTART:20221106T060000
END:STANDARD
BEGIN:DAYLIGHT
TZOFFSETFROM:-0500
TZOFFSETTO:-0400
TZNAME:EDT
DTSTART:20230312T070000
END:DAYLIGHT
BEGIN:STANDARD
TZOFFSETFROM:-0400
TZOFFSETTO:-0500
TZNAME:EST
DTSTART:20231105T060000
END:STANDARD
BEGIN:DAYLIGHT
TZOFFSETFROM:-0500
TZOFFSETTO:-0400
TZNAME:EDT
DTSTART:20240310T070000
END:DAYLIGHT
BEGIN:STANDARD
TZOFFSETFROM:-0400
TZOFFSETTO:-0500
TZNAME:EST
DTSTART:20241103T060000
END:STANDARD
END:VTIMEZONE
BEGIN:VEVENT
DTSTART;TZID=America/New_York:20230531T100000
DTEND;TZID=America/New_York:20230531T120000
DTSTAMP:20260421T064823
CREATED:20230502T175927Z
LAST-MODIFIED:20230502T180357Z
UID:24397-1685527200-1685534400@gyf.com
SUMMARY:PANO Webinar - Finance and Operations
DESCRIPTION:Virtual Standards for Excellence® Implementation Workshop Series (4 of 6)\nThis interactive webinar covers the fourth Guiding Principle of the Standards for Excellence: Finance and Operations. We’ll look at things like steps in the budget process\, the Form 990\, purchasing policies\, crisis and disaster planning\, IT planning\, engaging the public\, and more. We’ll provides lots of tools and resources for putting the information shared into practice. \nModerated by: Heather Giampapa\, Director of Standards for Excellence and Development\, PANO  \nPresented by: Standards for Excellence Licensed Consultant Cindy Bergvall\, CPA \nSponsored by: Grossman Yanak & Ford LLP \nClick here for additional details regarding cost and registration.
URL:https://gyf.com/event/pano-webinar-finance-and-operations/
LOCATION:Webinar\, PA\, United States
CATEGORIES:CPE,NFP
ATTACH;FMTTYPE=image/png:https://gyf.com/wp-content/uploads/2023/05/PANO-logo-with-Tag-3.png
END:VEVENT
END:VCALENDAR