BEGIN:VCALENDAR
VERSION:2.0
PRODID:-//GYF - ECPv6.15.20//NONSGML v1.0//EN
CALSCALE:GREGORIAN
METHOD:PUBLISH
X-ORIGINAL-URL:https://gyf.com
X-WR-CALDESC:Events for GYF
REFRESH-INTERVAL;VALUE=DURATION:PT1H
X-Robots-Tag:noindex
X-PUBLISHED-TTL:PT1H
BEGIN:VTIMEZONE
TZID:America/New_York
BEGIN:DAYLIGHT
TZOFFSETFROM:-0500
TZOFFSETTO:-0400
TZNAME:EDT
DTSTART:20200308T070000
END:DAYLIGHT
BEGIN:STANDARD
TZOFFSETFROM:-0400
TZOFFSETTO:-0500
TZNAME:EST
DTSTART:20201101T060000
END:STANDARD
BEGIN:DAYLIGHT
TZOFFSETFROM:-0500
TZOFFSETTO:-0400
TZNAME:EDT
DTSTART:20210314T070000
END:DAYLIGHT
BEGIN:STANDARD
TZOFFSETFROM:-0400
TZOFFSETTO:-0500
TZNAME:EST
DTSTART:20211107T060000
END:STANDARD
BEGIN:DAYLIGHT
TZOFFSETFROM:-0500
TZOFFSETTO:-0400
TZNAME:EDT
DTSTART:20220313T070000
END:DAYLIGHT
BEGIN:STANDARD
TZOFFSETFROM:-0400
TZOFFSETTO:-0500
TZNAME:EST
DTSTART:20221106T060000
END:STANDARD
END:VTIMEZONE
BEGIN:VEVENT
DTSTART;TZID=America/New_York:20210603T100000
DTEND;TZID=America/New_York:20210603T120000
DTSTAMP:20260424T100712
CREATED:20210526T131743Z
LAST-MODIFIED:20210526T132010Z
UID:19087-1622714400-1622721600@gyf.com
SUMMARY:Business Exit/Succession Planning Panel
DESCRIPTION:GYF’s Melissa Bizyak will be part of the panel speaking at this virtual event presented by the Pittsburgh chapter of the Society of Financial Service Professionals. Click here for more details and registration link.
URL:https://gyf.com/event/business-exit-succession-planning-panel/
LOCATION:Webinar\, PA\, United States
CATEGORIES:CLE,CPE
ATTACH;FMTTYPE=image/png:https://gyf.com/wp-content/uploads/2021/05/6-3-21-FSP-exit-planning-e1622035033474.png
END:VEVENT
END:VCALENDAR