BEGIN:VCALENDAR
VERSION:2.0
PRODID:-//GYF - ECPv6.15.20//NONSGML v1.0//EN
CALSCALE:GREGORIAN
METHOD:PUBLISH
X-WR-CALNAME:GYF
X-ORIGINAL-URL:https://gyf.com
X-WR-CALDESC:Events for GYF
REFRESH-INTERVAL;VALUE=DURATION:PT1H
X-Robots-Tag:noindex
X-PUBLISHED-TTL:PT1H
BEGIN:VTIMEZONE
TZID:America/New_York
BEGIN:DAYLIGHT
TZOFFSETFROM:-0500
TZOFFSETTO:-0400
TZNAME:EDT
DTSTART:20200308T070000
END:DAYLIGHT
BEGIN:STANDARD
TZOFFSETFROM:-0400
TZOFFSETTO:-0500
TZNAME:EST
DTSTART:20201101T060000
END:STANDARD
BEGIN:DAYLIGHT
TZOFFSETFROM:-0500
TZOFFSETTO:-0400
TZNAME:EDT
DTSTART:20210314T070000
END:DAYLIGHT
BEGIN:STANDARD
TZOFFSETFROM:-0400
TZOFFSETTO:-0500
TZNAME:EST
DTSTART:20211107T060000
END:STANDARD
BEGIN:DAYLIGHT
TZOFFSETFROM:-0500
TZOFFSETTO:-0400
TZNAME:EDT
DTSTART:20220313T070000
END:DAYLIGHT
BEGIN:STANDARD
TZOFFSETFROM:-0400
TZOFFSETTO:-0500
TZNAME:EST
DTSTART:20221106T060000
END:STANDARD
END:VTIMEZONE
BEGIN:VEVENT
DTSTART;TZID=America/New_York:20210520T083000
DTEND;TZID=America/New_York:20210520T103000
DTSTAMP:20260424T080607
CREATED:20200827T134512Z
LAST-MODIFIED:20210420T175510Z
UID:15936-1621499400-1621506600@gyf.com
SUMMARY:PittNUG Virtual Meeting – NetSuite User Group
DESCRIPTION:Please join us for our Pittsburgh Area NetSuite User Group Virtual Meeting. \nBelow are some of the topics we will discuss: \n\n2021.1 Release Review/Discussion\nNetSuite Centralized Purchasing & Billing\nSuiteSolution Spotlight – Rebate Management\nSuiteScript and Scripted Records\nNetSuite Tips & Tricks and more\n\n\nRSVP: Email contact@pittnug.org for the Zoom Meeting info
URL:https://gyf.com/event/pittnug-netsuite-user-group-virtual-meeting/
CATEGORIES:GYF ERP
ATTACH;FMTTYPE=image/jpeg:https://gyf.com/wp-content/uploads/2016/02/Pgh-Area-NSUG-logo_rr.jpg
END:VEVENT
END:VCALENDAR